BEGIN:VCALENDAR
VERSION:2.0
PRODID:-//ICCO PR - ECPv6.14.1//NONSGML v1.0//EN
CALSCALE:GREGORIAN
METHOD:PUBLISH
X-ORIGINAL-URL:https://iccopr.com
X-WR-CALDESC:Events for ICCO PR
REFRESH-INTERVAL;VALUE=DURATION:PT1H
X-Robots-Tag:noindex
X-PUBLISHED-TTL:PT1H
BEGIN:VTIMEZONE
TZID:Europe/London
BEGIN:DAYLIGHT
TZOFFSETFROM:+0000
TZOFFSETTO:+0100
TZNAME:BST
DTSTART:20180325T010000
END:DAYLIGHT
BEGIN:STANDARD
TZOFFSETFROM:+0100
TZOFFSETTO:+0000
TZNAME:GMT
DTSTART:20181028T010000
END:STANDARD
BEGIN:DAYLIGHT
TZOFFSETFROM:+0000
TZOFFSETTO:+0100
TZNAME:BST
DTSTART:20190331T010000
END:DAYLIGHT
BEGIN:STANDARD
TZOFFSETFROM:+0100
TZOFFSETTO:+0000
TZNAME:GMT
DTSTART:20191027T010000
END:STANDARD
END:VTIMEZONE
BEGIN:VEVENT
DTSTART;VALUE=DATE:20190605
DTEND;VALUE=DATE:20190607
DTSTAMP:20260422T204811
CREATED:20181221T092402Z
LAST-MODIFIED:20181221T092402Z
UID:10364-1559692800-1559865599@iccopr.com
SUMMARY:ICCO European Group
DESCRIPTION:
URL:https://iccopr.com/event/icco-european-group/
LOCATION:Rome\, Rome\, Italy
CATEGORIES:Events,Invitation Only Event
ORGANIZER;CN="ICCO":MAILTO:tom.allen@iccopr.com
END:VEVENT
BEGIN:VEVENT
DTSTART;VALUE=DATE:20190521
DTEND;VALUE=DATE:20190524
DTSTAMP:20260422T204811
CREATED:20181220T200046Z
LAST-MODIFIED:20181220T200046Z
UID:10348-1558396800-1558655999@iccopr.com
SUMMARY:AMEC Conference
DESCRIPTION:
URL:https://iccopr.com/event/amec-conference/
LOCATION:Prague\, Prague\, Czech Republic
CATEGORIES:Events,Ticketed Event
END:VEVENT
BEGIN:VEVENT
DTSTART;VALUE=DATE:20190513
DTEND;VALUE=DATE:20190518
DTSTAMP:20260422T204811
CREATED:20181220T195852Z
LAST-MODIFIED:20190116T100532Z
UID:10343-1557705600-1558137599@iccopr.com
SUMMARY:APRA Conference
DESCRIPTION:APRA will host the 31st edition of their annual conference\, tagged APRA Rwanda 2019 in Kigali\, Rwanda between May 13-17\, 2019\, at the Kigali Convention Centre (KCC). This conference which will bring together over 500\npractitioners in public relations\, media\, brand management\, advertising\, government\, and other marketing\ncommunications professionals and will continue the association’s longstanding quest to change Africa’s narrative by\nfurther defining strategies for driving such change. Our theme: “Africa and Story-telling: Defining the Narratives”\nwill emphasize storytelling as a tool of public relations and a re-evaluation of the ethics of the profession. The\nconference will be a mixture of plenary sessions\, workshops and trending case studies. \nAPRA Rwanda 2019\, is endorsed by the Rwanda Convention Bureau and major global PR associations namely\nInternational Public Relations Association (IPRA)\, International Communications Consultancy Organisation\n(ICCO)\, Global Alliance for Public Relations and Communication Management (GA) and African Union\nCommission (AUC). It will also feature the third edition of the SABRE Awards Africa showcasing the best in\npublic relations work from across the continent. This event is organized in partnership with the renowned Holmes\nReport. \nParading an enviable array of speakers and facilitators\, APRA Rwanda 2019 will help delegates better equip\nthemselves for the various challenges their respective jobs throw up while exposing them to contemporary\ntechniques in modern day strategic communication. \nAPRA Rwanda 2019 promises to be uniquely different offering a perfect blend of business and pleasure as\ndelegates will also savor Rwanda’s rich cultural heritage and wildlife. \nTo find out more about this event and register please click here.
URL:https://iccopr.com/event/apra-conference/
LOCATION:Kigali\, Kigali\, Rwanda
CATEGORIES:Events,Ticketed Event
ATTACH;FMTTYPE=image/jpeg:https://iccopr.com/wp-content/uploads/2018/12/APRA-Rwanda.jpg
END:VEVENT
BEGIN:VEVENT
DTSTART;VALUE=DATE:20190509
DTEND;VALUE=DATE:20190511
DTSTAMP:20260422T204811
CREATED:20181220T194639Z
LAST-MODIFIED:20190116T093853Z
UID:10339-1557360000-1557532799@iccopr.com
SUMMARY:Indie Summit 2019
DESCRIPTION:‘The Indie Summit’ is a unique experience: the only large scale global conference and networking event\, exclusively for Owners\, CEO’s\, and Senior Directors of independent marketing and communications agencies. \nThe Summit provides independent agency leaders with the latest knowledge\, insights\, and skills they need to increase profitability\, drive growth\, and compete effectively with traditional agency networks and international holding companies. It is a unique mix of inspiration\, networking\, learning\, and sharing. \nContent is relevant to agencies from all marketing and communications disciplines\, including advertising and marketing\, public relations\, media planning and buying\, social media and all forms of digital communications. \nThe 2019 Indie Summit will feature speakers of similar quality to those in previous years from around the world – PLUS experts from the cutting edge Chinese technology companies who are revolutionising social media\, online commerce and all other aspects of marketing and communications today.
URL:https://iccopr.com/event/indie-summit-2/
LOCATION:Beijing\, Beijing\, China
CATEGORIES:Events,Ticketed Event
ATTACH;FMTTYPE=image/jpeg:https://iccopr.com/wp-content/uploads/2018/12/Indie-Summit-2019.jpg
END:VEVENT
BEGIN:VEVENT
DTSTART;VALUE=DATE:20190507
DTEND;VALUE=DATE:20190508
DTSTAMP:20260422T204811
CREATED:20181220T194335Z
LAST-MODIFIED:20190116T100501Z
UID:10336-1557187200-1557273599@iccopr.com
SUMMARY:SABRE Awards North America
DESCRIPTION:The SABRE Awards have always been about engagement\, credibility\, and relationship building. Now more than ever you need to be able to demonstrate your credentials in these areas\, and the peer reviewed endorsement of your abilities that SABRE provides is increasingly critical. \nYou can find out more information on the North American SABRE Awards 2019\, how to enter\, who the judges are\, and what categories are available by clicking here.
URL:https://iccopr.com/event/sabre-awards-north-america/
LOCATION:New York\, New York\, United States
CATEGORIES:Events,Ticketed Event
ATTACH;FMTTYPE=image/png:https://iccopr.com/wp-content/uploads/2018/12/Sabre-Awards-North-America.png
END:VEVENT
BEGIN:VEVENT
DTSTART;VALUE=DATE:20190501
DTEND;VALUE=DATE:20190502
DTSTAMP:20260422T204811
CREATED:20181220T200202Z
LAST-MODIFIED:20190109T104639Z
UID:10352-1556668800-1556755199@iccopr.com
SUMMARY:PROI Event
DESCRIPTION:
URL:https://iccopr.com/event/proi-event/
LOCATION:Canada\, Canada
CATEGORIES:Events
END:VEVENT
BEGIN:VEVENT
DTSTART;TZID=Europe/London:20190319T183000
DTEND;TZID=Europe/London:20190319T220000
DTSTAMP:20260422T204811
CREATED:20181220T194005Z
LAST-MODIFIED:20190115T170807Z
UID:10332-1553020200-1553032800@iccopr.com
SUMMARY:PRCA South East Asia Awards
DESCRIPTION:The PRCA SEA Regional Awards celebrate the best of the best PR and communications campaigns\, teams\, and individuals across Southeast Asia. The PRCA SEA Awards 2019 will be judged by some of the biggest names from the worlds of PR\, communications\, and journalism\, meaning that winning one of these awards truly recognise leading-edge PR and communications work. \nTo view the categories\, list of 2019 judges\, and more on the event click here.
URL:https://iccopr.com/event/prca-south-east-asia-awards/
LOCATION:Singapore
CATEGORIES:Events,Ticketed Event
ATTACH;FMTTYPE=image/jpeg:https://iccopr.com/wp-content/uploads/2018/12/SEA-Awards.jpg
ORGANIZER;CN="PRCA SEA":MAILTO:tara.munis@prca.seasia.global
END:VEVENT
BEGIN:VEVENT
DTSTART;TZID=Europe/London:20190318T090000
DTEND;TZID=Europe/London:20190318T130000
DTSTAMP:20260422T204811
CREATED:20190115T115744Z
LAST-MODIFIED:20190121T151822Z
UID:10993-1552899600-1552914000@iccopr.com
SUMMARY:Digital Cultures - Campaigning Across Asia
DESCRIPTION:This seminar will bring together expert communicators from across Asia to share insights and case studies about region specific campaigning in Asia. Learn from award winning campaign success stories about the most important cultural nuances\, tools and trends for reaching audiences in particular countries and regions across the vast content of Asia. ICCO is the International Communications Consultancy Organisation\, the global PR association of which PRCA SEA is a member. \nAudience:\n60-100 Regional MDs/ CEOs\, campaign directors\, Heads of digital and social with a remit that covers various markets across Asia Pacific\, or those looking to expand into different regions \n• Welcome and Global Digital PR Overveiw\, Francis Ingham\, Chief Executive\, ICCO \n• Welcome and APAC Landscape\, Nitin Mantri\, CEO\, AvianWE \n• Messaging and best platforms for reaching audiences in China\, Weber Shandwick \n• South East Asia Market – New Opportunities\, Mabel Chiang\, MD SEA\, Text 100 \nBreak \n• Connecting with audiences in India now and in the future\, Kunal Kishore Sinha\, Founder and CEO\, Value 360 \n• Campaigning across APAC (Panel) over the next decade\, Chaired by Arun Sudhaman\, Holmes Report\nPanel discuss the nuances of different campaigns across APAC and how this will change over the next decade. \n• Ways to authentically resonate with customers in China\, Penny\, Burgess\, Founder and CEO\, WE Red Bridge \n• Panel Discussion – Skills for the next decade across Asia \nMore TBA \n  \nTo purchase your ticket in SGD\, please click here. \nTo request an invoice for a ticket\, contact Rob Morbin.
URL:https://iccopr.com/event/digital-cultures-campaigning-across-asia/
LOCATION:Singapore
CATEGORIES:Events,Ticketed Event
ATTACH;FMTTYPE=image/jpeg:https://iccopr.com/wp-content/uploads/2019/01/7af4ddd8-2ec6-4db2-9a99-ade59bbc4c90.hw11.jpg
ORGANIZER;CN="ICCO":MAILTO:tom.allen@iccopr.com
END:VEVENT
BEGIN:VEVENT
DTSTART;VALUE=DATE:20190314
DTEND;VALUE=DATE:20190316
DTSTAMP:20260422T204811
CREATED:20181220T193556Z
LAST-MODIFIED:20181220T193556Z
UID:10327-1552521600-1552694399@iccopr.com
SUMMARY:AKOS Moscow
DESCRIPTION:
URL:https://iccopr.com/event/akos-moscow/
LOCATION:Moscow\, Moscow\, Russian Federation
CATEGORIES:Events
END:VEVENT
BEGIN:VEVENT
DTSTART;TZID=Europe/London:20190213T183000
DTEND;TZID=Europe/London:20190213T230000
DTSTAMP:20260422T204811
CREATED:20181220T192557Z
LAST-MODIFIED:20190115T154144Z
UID:10324-1550082600-1550098800@iccopr.com
SUMMARY:PRCA Middle East and North Africa Awards
DESCRIPTION:The PRCA MENA Regional Awards celebrate the best of the best PR and communications campaigns\, teams\, and individuals across the Middle East and North Africa. You can find out more information about the MENA Awards including key dates\, the judging panel\, and shortlist for the night here. \nIf you would like to attend the PRCA MENA Awards\, please contact Melissa Cannon\, PRCA MENA General Manager.
URL:https://iccopr.com/event/prca-middle-east-and-north-africa-awards/
LOCATION:Renaissance Downtown Dubai Hotel\, Marasi Dr\, Dubai\, United Arab Emirates
CATEGORIES:Events,Ticketed Event
ATTACH;FMTTYPE=image/jpeg:https://iccopr.com/wp-content/uploads/2018/12/PRCA-MENA-Awards-Logo-2019.jpg
END:VEVENT
BEGIN:VEVENT
DTSTART;TZID=Europe/London:20190213T083000
DTEND;TZID=Europe/London:20190213T170000
DTSTAMP:20260422T204811
CREATED:20181220T191907Z
LAST-MODIFIED:20190115T152449Z
UID:10321-1550046600-1550077200@iccopr.com
SUMMARY:Holmes In2 Innovation Summit
DESCRIPTION:The Holmes Report’s In2 Innovation Summit is a global network of events that explore the innovation and disruption that continue to redefine influence and engagement. Our second #In2SummitMENA will take place in Dubai on Wednesday\, 13 February\, 2019. \nSenior leaders from a range of companies and agencies will headline the MENA conference\, which will focus on the role of public relations in the modern business\, questioning how the industry can finally demonstrate its capabilities to marketers and shape the skills required of the PR professional of tomorrow. Those concerns are only heightened in an ‘age of rage’ that is typified by rising populism\, fake news and the hopes and desires of a ‘disrupted generation’. \nTo purchase your ticket\, find out more about the In2 Innovation Summit\, see who the speakers are\, and get takeaways from previous events\, click here.
URL:https://iccopr.com/event/holmes-in2-summit/
LOCATION:Renaissance Downtown Dubai Hotel\, Marasi Dr\, Dubai\, United Arab Emirates
CATEGORIES:Events,Ticketed Event
ATTACH;FMTTYPE=image/jpeg:https://iccopr.com/wp-content/uploads/2018/12/Capture.jpg
END:VEVENT
BEGIN:VEVENT
DTSTART;VALUE=DATE:20190212
DTEND;VALUE=DATE:20190213
DTSTAMP:20260422T204811
CREATED:20181220T191757Z
LAST-MODIFIED:20181220T191757Z
UID:10318-1549929600-1550015999@iccopr.com
SUMMARY:ICCO Board Meeting
DESCRIPTION:
URL:https://iccopr.com/event/icco-board-meeting-3/
LOCATION:Renaissance Downtown Dubai Hotel\, Marasi Dr\, Dubai\, United Arab Emirates
CATEGORIES:Events
ORGANIZER;CN="ICCO":MAILTO:tom.allen@iccopr.com
END:VEVENT
BEGIN:VEVENT
DTSTART;TZID=Europe/London:20190130T183000
DTEND;TZID=Europe/London:20190130T210000
DTSTAMP:20260422T204811
CREATED:20181220T191517Z
LAST-MODIFIED:20190117T161155Z
UID:10315-1548873000-1548882000@iccopr.com
SUMMARY:Cannes Uncovered
DESCRIPTION:Join us on the evening of Wednesday\, 30th January\, 2019\, at FleishmanHillard Fishburn in London\, where we will discuss Cannes and their key takeaways. \nTo find out more about the upcoming #CannesUncovered event\, please contact Rob Morbin.
URL:https://iccopr.com/event/cannes-uncovered/
LOCATION:London\, London\, United Kingdom
CATEGORIES:Events
ATTACH;FMTTYPE=image/png:https://iccopr.com/wp-content/uploads/2018/09/Cannes-image.png
ORGANIZER;CN="ICCO":MAILTO:tom.allen@iccopr.com
END:VEVENT
BEGIN:VEVENT
DTSTART;TZID=Europe/London:20190123T083000
DTEND;TZID=Europe/London:20190123T100000
DTSTAMP:20260422T204811
CREATED:20181210T115042Z
LAST-MODIFIED:20190118T101434Z
UID:10104-1548232200-1548237600@iccopr.com
SUMMARY:Creative Culture Round Table: Mexico
DESCRIPTION:The round table breakfast will take place 8.30am on 23rd January 2019\, at Quo Vadis Private Members Club\, 26-29 Dean St\, Soho\, London W1D 3LL. \nIf you are an experienced account director interested in the nuances\, opportunities and challenges presented by the Mexican market\, please join us for a discussion with Milene Hayaux du Tilly\, Executive Director at Mexican Chamber of Commerce in Great Britain and Astrid Barraza\, Mexican marketing and internal communications specialist. The round table will bring together experts in Mexico and PR in Latin America with experienced professionals\, brands and agencies keen to explore this market. \nICCO partner Creative Culture have developed a white paper examining the rise of nationalism in Mexico\, which you can download here. \nShould you be interested in taking part in this exclusive event\, we kindly ask you to confirm your presence to Marine Roux on m.roux@creativecultureint.com \n  \n  \n 
URL:https://iccopr.com/event/creative-culture-round-table-mexico/
LOCATION:Quo Vadis Private Members Club\, 26-29 Dean St\, Soho\, London\, W1D 3LL
CATEGORIES:Events
ATTACH;FMTTYPE=image/png:https://iccopr.com/wp-content/uploads/2018/12/Mehico.png
END:VEVENT
BEGIN:VEVENT
DTSTART;TZID=Europe/London:20181127T183000
DTEND;TZID=Europe/London:20181127T203000
DTSTAMP:20260422T204811
CREATED:20181030T174946Z
LAST-MODIFIED:20181107T110100Z
UID:9985-1543343400-1543350600@iccopr.com
SUMMARY:World PR Report Launch - Europe
DESCRIPTION:About the launch \nOn 27 November\, the ICCO World Report will be launched at a series of events in each of ICCO’s regional hubs. \nLondon Event for Europe launch: a short 15 minutes highlights with key stats and trends from a senior contributor will be followed by a drinks reception at a special PRCA UK leader’s drinks. \n  \nAbout the World PR Report: \nThe World PR Report is the definitive study of the global public relations industry\, conducted annually by the International Communications Consultancy Organisation (ICCO). \nEvery year it provides agency leaders with vital information on the composition and direction of the public relations industry. The report will provide an analysis of where the global PR and communications industry stands today; how it has been performing over the past year; and what it predicts will happen over the next few years. \nThe report is circulated digitally to ICCO’s network of 4\,000 agencies across 66 countries and is circulated in hard copy at major ICCO and the forty national associations events through the year. \nTickets to this event are limited.
URL:https://iccopr.com/event/world-pr-report-launch-europe/
LOCATION:One Aldwych Hotel\, 1 Aldwych\, London\, WC2B 4BZ\, United Kingdom
CATEGORIES:Events
END:VEVENT
BEGIN:VEVENT
DTSTART;VALUE=DATE:20181121
DTEND;VALUE=DATE:20181124
DTSTAMP:20260422T204811
CREATED:20181221T095046Z
LAST-MODIFIED:20181221T095046Z
UID:10392-1542758400-1543017599@iccopr.com
SUMMARY:Provoke Global Summit\, Global SABRES
DESCRIPTION:
URL:https://iccopr.com/event/provoke-global-summit-global-sabres/
LOCATION:Washington\, Washington\, United States
CATEGORIES:Events,Ticketed Event
END:VEVENT
BEGIN:VEVENT
DTSTART;VALUE=DATE:20181004
DTEND;VALUE=DATE:20181006
DTSTAMP:20260422T204811
CREATED:20180430T114923Z
LAST-MODIFIED:20180430T115550Z
UID:8769-1538611200-1538783999@iccopr.com
SUMMARY:ICCO Global Summit 2018
DESCRIPTION:The ICCO Global Summit is an annual two day gathering of senior PR and communications practitioners from around the world. Global agency heads and In-House Communications Directors will all be in attendance to witness  your insights in what has become an essential event for practitioners with a global remit. \nThe theme of the 2018 Summit is shaping the future of public relationsand will feature talks\, panel discussions\, and debate around new creative methods\, innovations and harnessing technology to complement traditional communication.
URL:https://iccopr.com/event/icco-global-summit-2018/
LOCATION:Clontarf Castle\, Castle Ave\, Clontarf\, Dublin\, Dublin 3\, Ireland
CATEGORIES:Events,Ticketed Event
ORGANIZER;CN="ICCO":MAILTO:tom.allen@iccopr.com
END:VEVENT
BEGIN:VEVENT
DTSTART;VALUE=DATE:20181003
DTEND;VALUE=DATE:20181006
DTSTAMP:20260422T204811
CREATED:20171213T102419Z
LAST-MODIFIED:20171213T102419Z
UID:7650-1538524800-1538783999@iccopr.com
SUMMARY:ICCO Board of Management Meeting + ICCO Global Summit
DESCRIPTION:ICCO’s national association member in Ireland\, PRCA\, has won the bid to host the ICCO BoM meeting and Global Summit in October 2018. \nWed 3rd Oct: ICCO Board of management meeting \nThurs 4th – Fri 5th Oct: ICCO Global Summit 2018 & PRCA Gala Dinner \nFor attendee/speaker/sponsorship enquiries\, please contact charlene.corrin@iccopr.com.
URL:https://iccopr.com/event/icco-board-management-meeting-icco-global-summit/
LOCATION:Dublin\, Dublin\, Ireland
CATEGORIES:Events
END:VEVENT
BEGIN:VEVENT
DTSTART;VALUE=DATE:20180928
DTEND;VALUE=DATE:20181001
DTSTAMP:20260422T204811
CREATED:20171128T175539Z
LAST-MODIFIED:20171128T175539Z
UID:7483-1538092800-1538351999@iccopr.com
SUMMARY:Praxis 2018
DESCRIPTION:Praxis 2018 will b taking place between the 28th and 30th September\, 2018 in Hyderabad\, India. The theme of the event is ‘The Essence of Storytelling: How Authenticity\, Credibility and Transparency Create Impact’. \n 
URL:https://iccopr.com/event/praxis-2018/
LOCATION:Hyderabad\, Hyderabad\, India
CATEGORIES:Ticketed Event
ORGANIZER;CN="Reputation Today":MAILTO:roshan@promisefoundation.com
END:VEVENT
BEGIN:VEVENT
DTSTART;VALUE=DATE:20180920
DTEND;VALUE=DATE:20180922
DTSTAMP:20260422T204811
CREATED:20180131T105709Z
LAST-MODIFIED:20180131T105709Z
UID:8228-1537401600-1537574399@iccopr.com
SUMMARY:Eighteenth International Communications Forum Baltic Weekend
DESCRIPTION:Baltic Weekend is the biggest international forum on communications in Сentral and Eastern Europe. The conference assembles PR and marketing experts from Russia and other countries\, state authorities\, representatives of the business community\, the mass media and educational and non-profit organizations interested in the development of professional and ethical communications.
URL:https://iccopr.com/event/eighteenth-international-communications-forum-baltic-weekend/
LOCATION:St. Petersburg\, St. Petersburg\, Russian Federation
CATEGORIES:Events,Invitation Only Event
ORGANIZER;CN="Russian Public Relations Association and SPN Communications":MAILTO:d.belyakova@spncomms.com
END:VEVENT
BEGIN:VEVENT
DTSTART;TZID=Europe/London:20180912T183000
DTEND;TZID=Europe/London:20180912T223000
DTSTAMP:20260422T204811
CREATED:20180830T135458Z
LAST-MODIFIED:20180905T135622Z
UID:9492-1536777000-1536791400@iccopr.com
SUMMARY:#CannesUncovered
DESCRIPTION:Join us on the evening of Wednesday 12th September at WE Communications in London\, where we will discuss Cannes and their key takeaways. \nTo find out more about the upcoming #CannesUncovered event\, please contact Tom Allen
URL:https://iccopr.com/event/cannesuncovered-3/
LOCATION:WE Communications\, 4th Floor\, Tower House\, 10 Southampton Street\, London WC2E 7HA\, London\, WC2E 7HA\, United Kingdom
CATEGORIES:Invitation Only Event
ORGANIZER;CN="ICCO":MAILTO:tom.allen@iccopr.com
END:VEVENT
BEGIN:VEVENT
DTSTART;TZID=Europe/London:20180711T080000
DTEND;TZID=Europe/London:20180712T170000
DTSTAMP:20260422T204811
CREATED:20171128T173328Z
LAST-MODIFIED:20171128T173458Z
UID:7477-1531296000-1531414800@iccopr.com
SUMMARY:International History of Public Relations Conference
DESCRIPTION:Academics\, practitioners and research students are again invited to submit competitive abstracts and papers for presentation at the ninth running of the International History of Public Relations Conference (IHPRC) to be held on July 11-12\, 2018 at Bournemouth University.
URL:https://iccopr.com/event/international-history-public-relations-conference/
LOCATION:Bournemouth University\, Fern Barrow\, Poole\, Bournemouth\, BH12 5BB\, United Kingdom
CATEGORIES:Ticketed Event
ORGANIZER;CN="Public Relations Research Cluster":MAILTO:enquiries@bournemouth.ac.uk
END:VEVENT
BEGIN:VEVENT
DTSTART;TZID=Europe/London:20180705T080000
DTEND;TZID=Europe/London:20180707T170000
DTSTAMP:20260422T204811
CREATED:20171128T172522Z
LAST-MODIFIED:20171128T172607Z
UID:7472-1530777600-1530982800@iccopr.com
SUMMARY:A World in Crisis\, the role of public relations
DESCRIPTION:The 25th silver anniversary edition of International Public Relations Research Symposium (BledCom) will be held on July 5\, 6\, & 7\, 2018 in Hotel Golf Bled\, Slovenia.
URL:https://iccopr.com/event/world-crisis-role-public-relations/
LOCATION:Hotel Golf Bled\, Cankarjeva cesta 4\, Bled\, 4260
CATEGORIES:Ticketed Event
ORGANIZER;CN="Centre for Marketing and Public Relations at University of Ljubljana":MAILTO:bledcom@fdv.uni-lj.si
END:VEVENT
BEGIN:VEVENT
DTSTART;TZID=Europe/London:20180618T080000
DTEND;TZID=Europe/London:20180622T170000
DTSTAMP:20260422T204811
CREATED:20171128T171438Z
LAST-MODIFIED:20190624T090504Z
UID:7467-1529308800-1529686800@iccopr.com
SUMMARY:Cannes Lions
DESCRIPTION:Cannes Lions has been championing creativity since 1954. Today\, it’s the world’s biggest festival and awards for the creative and marketing communications\, entertainment\, design and tech industries.
URL:https://iccopr.com/event/cannes-lions/
LOCATION:Cannes\, Cannes\, France
CATEGORIES:Ticketed Event
END:VEVENT
BEGIN:VEVENT
DTSTART;TZID=Europe/London:20180612T080000
DTEND;TZID=Europe/London:20180614T170000
DTSTAMP:20260422T204811
CREATED:20171128T170115Z
LAST-MODIFIED:20171128T170403Z
UID:7463-1528790400-1528995600@iccopr.com
SUMMARY:AMEC 10th Global Summit on Measurement
DESCRIPTION:Measurement and the Three i’s: Insights\, Innovation and Integration driving the futureIn an era of unprecedented change for the media and communications/PR industries\, measurement must also change. For 20 years measurement has been backward looking and focussed on counting. The Global Summit in Barcelona will aim to fast-forward! \nThe AMEC Global Summit will be taking place between the 12 and 14th June\, 2018 in Barcelona\, Spain.
URL:https://iccopr.com/event/amec-10th-global-summit-measurement/
LOCATION:Barcelona\, Barcelona\, Spain
CATEGORIES:Ticketed Event
END:VEVENT
BEGIN:VEVENT
DTSTART;TZID=Europe/London:20180607T080000
DTEND;TZID=Europe/London:20180607T170000
DTSTAMP:20260422T204811
CREATED:20180108T181619Z
LAST-MODIFIED:20180109T112814Z
UID:7965-1528358400-1528390800@iccopr.com
SUMMARY:Global HR Trends Summit Slovenia
DESCRIPTION:After the phenomenal success in 15 different countries around the world\, the Global HR Summit is finally coming to Slovenia\, on 7th of June 2018! \nFeaturing presentations by some of the world’s most innovative HR gurus\, from companies like Emirates NBD\, ING Group\, Nissan\, Coca-Cola\, Telefonica you will master even the most challenging HR trends in today’s fast changing business world.\nWhy grab your ticket today for the Global HR Trends Summit Slovenia? \n\n Unilimited networking opportunities: The worlds most prominent HR professionals are attending the event\, making it an ideal opportunity to exchange business ideas and make new friends.\n Our event will inspire and motivate you\, and will provide you with a world-class education in human resources.\n Don’t miss out & grab the super early bird discount\, expiring 31st of December!
URL:https://iccopr.com/event/global-hr-trends-summit-slovenia/
LOCATION:Ljubljana\, Slovenia
CATEGORIES:Events
ORGANIZER;CN="P World":MAILTO:info@thepworld.com
END:VEVENT
BEGIN:VEVENT
DTSTART;VALUE=DATE:20180607
DTEND;VALUE=DATE:20180609
DTSTAMP:20260422T204811
CREATED:20180108T181000Z
LAST-MODIFIED:20180108T181042Z
UID:7960-1528329600-1528502399@iccopr.com
SUMMARY:Global PR Summit New York 2
DESCRIPTION:Over 180 PR and communications experts from 28 different countries attended the first edition of our Global PR Summit New York in June 2017. \nIn 2018 we are taking the event to a completely new level by featuring never before told PR stories presented by some of the world’s leading PR\, social media and communications experts. \nHere are only some of the sessions that you and your team stand to benefit from: \n\nIs Your Communications Team Clued Up on Cybersecurity?\nWhat Does the Future Comms Practitioner’s Skillset Look Like?\nFake News: Why It’s a Real Issue for PR\nSuccessfully Creating PR Campaigns with a Clear and Impactful Purpose\nUsing Influencers to Supercharge Your PR Campaigns
URL:https://iccopr.com/event/global-pr-summit-new-york-2/
LOCATION:NYIT Audiorium on Broadway\, 1871 Broadway\, New York\, NY 10023\, United States
CATEGORIES:Events
ORGANIZER;CN="P World":MAILTO:info@thepworld.com
END:VEVENT
BEGIN:VEVENT
DTSTART;VALUE=DATE:20180606
DTEND;VALUE=DATE:20180609
DTSTAMP:20260422T204811
CREATED:20171213T101541Z
LAST-MODIFIED:20171213T101541Z
UID:7645-1528243200-1528502399@iccopr.com
SUMMARY:ICCO European Group Meeting
DESCRIPTION:The ICCO European Group meeting will take place on Wednesday 6th – Friday 8th June in Budapest\, Hungary. \nICCO Board members and Association Directors within Europe are invited to attend the meeting. \nWed 6th June: arrival in Budapest \nThurs 7th June: ICCO European Regional Group meeting\, working groups \nFri 8th June: Working group reports\, summaries\, lunch \nFor further details\, please contact Juergen Gangoly: gangoly@skills.at.
URL:https://iccopr.com/event/icco-european-group-meeting/
LOCATION:Budapest\, Budapest\, Hungary
CATEGORIES:Events
END:VEVENT
BEGIN:VEVENT
DTSTART;TZID=Europe/London:20180517T190000
DTEND;TZID=Europe/London:20180517T233000
DTSTAMP:20260422T204811
CREATED:20180327T171313Z
LAST-MODIFIED:20180327T171313Z
UID:8653-1526583600-1526599800@iccopr.com
SUMMARY:The Indie Awards
DESCRIPTION:This is the only large scale\, international awards program exclusively for independent agencies and judged by independent agencies\, of all disciplines and specialties. \nNo bias\, no politics\, no agency of the year\, just prizes for the best work. And only US$ 200 to enter. The deadline for entries is Wednesday 4th April. All info and a link to enter work\, can be found here: http://indieawards.global.
URL:https://iccopr.com/event/the-indie-awards/
LOCATION:The Wallace Collection\, Herford House\, Manchester Square\, London\, W1U 3BN\, United Kingdom
CATEGORIES:Events
END:VEVENT
BEGIN:VEVENT
DTSTART;VALUE=DATE:20180517
DTEND;VALUE=DATE:20180519
DTSTAMP:20260422T204811
CREATED:20180327T171729Z
LAST-MODIFIED:20180327T171729Z
UID:8664-1526515200-1526687999@iccopr.com
SUMMARY:Indie Summit
DESCRIPTION:Two days of presentations and discussions\, exclusively focussed on the challenges and opportunities facing independent agencies\, and plenty of time to meet end engage with world class speakers and independent agency leaders from all communications disciplines. The Indie Summit is in London on 17th and 18th May and bookings are open now. See the full agenda plus a link to book places\, at http://www.indiesummit.net
URL:https://iccopr.com/event/indie-summit/
LOCATION:The Royal College of Physicians\, 11 St Andrews Place\, London\, NW1 4LE\, United Kingdom
CATEGORIES:Events
END:VEVENT
END:VCALENDAR